BEGIN:VCALENDAR
VERSION:2.0
PRODID:-//ExhibitionMatches.com//NONSGML v1.0//EN
BEGIN:VEVENT
UID=83450536-DD93-2FE8-83D3063EE7C85D39
DTSTAMP=20260424T113003Z
DTSTART;VALUE=DATE:20260607
DTEND;VALUE=DATE:20260608
SUMMARY:10th Annual Headlocks on the Hudson
LOCATION:Knickerbacker Field, 191 103rd Street, Troy, NY, 12180
DESCRIPTION:View full event details: https://wrestlingtournaments.org/view.cfm?ID=106954
Contact: Joseph Uccellini undergroundathleticstroy@gmail.com
URL;VALUE=URI:https://wrestlingtournaments.org/view.cfm?ID=106954
END:VEVENT
END:VCALENDAR