BEGIN:VCALENDAR
VERSION:2.0
PRODID:-//ExhibitionMatches.com//NONSGML v1.0//EN
BEGIN:VEVENT
UID=8314A51F-E764-F362-7A696ACE19E94848
DTSTAMP=20260424T112446Z
DTSTART;VALUE=DATE:20260920
DTEND;VALUE=DATE:20260921
SUMMARY:WrestlingTournaments.com Presents: Back to School Bash (WAR Zone) (Female Only Division)
LOCATION:All Sportz, 100 Ruland Rd, Melville, NY, 11747
DESCRIPTION:View full event details: https://wrestlingtournaments.org/view.cfm?ID=106977

URL;VALUE=URI:https://wrestlingtournaments.org/view.cfm?ID=106977
END:VEVENT
END:VCALENDAR