BEGIN:VCALENDAR
VERSION:2.0
PRODID:-//ExhibitionMatches.com//NONSGML v1.0//EN
BEGIN:VEVENT
UID=83418125-F794-B164-937FB78FB2BA7BB5
DTSTAMP=20260424T112940Z
DTSTART;VALUE=DATE:20260920
DTEND;VALUE=DATE:20260921
SUMMARY:WrestlingTournaments.com Presents: Back to School Bash (WAR Zone) (Open Division [Athletes Over 18])
LOCATION:All Sportz, 100 Ruland Rd, Melville, NY, 11747
DESCRIPTION:View full event details: https://wrestlingtournaments.org/view.cfm?ID=106978

URL;VALUE=URI:https://wrestlingtournaments.org/view.cfm?ID=106978
END:VEVENT
END:VCALENDAR