BEGIN:VCALENDAR
VERSION:2.0
PRODID:-//ExhibitionMatches.com//NONSGML v1.0//EN
BEGIN:VEVENT
UID=8354C31E-F2F8-5E61-7668DEAE6B6E0936
DTSTAMP=20260424T113146Z
DTSTART;VALUE=DATE:20261205
DTEND;VALUE=DATE:20261206
SUMMARY:WrestlingTournaments.com Presents: The Long Island Season Kickoff
LOCATION:All Aportz, 100 Ruland Rd, Melville, NY, 11747
DESCRIPTION:View full event details: https://wrestlingtournaments.org/view.cfm?ID=107120

URL;VALUE=URI:https://wrestlingtournaments.org/view.cfm?ID=107120
END:VEVENT
END:VCALENDAR