BEGIN:VCALENDAR
VERSION:2.0
PRODID:-//ExhibitionMatches.com//NONSGML v1.0//EN
BEGIN:VEVENT
UID=82A96368-D292-B016-49DBD7C02CF6D21C
DTSTAMP=20260424T111303Z
DTSTART;VALUE=DATE:20270109
DTEND;VALUE=DATE:20270110
SUMMARY:WrestlingTournaments.com Presents: New Years WAR Zone @ All Sportz
LOCATION:All Sportz, 100 Ruland Rd, Melville, NY, 11747
DESCRIPTION:View full event details: https://wrestlingtournaments.org/view.cfm?ID=107123

URL;VALUE=URI:https://wrestlingtournaments.org/view.cfm?ID=107123
END:VEVENT
END:VCALENDAR