BEGIN:VCALENDAR
VERSION:2.0
PRODID:-//ExhibitionMatches.com//NONSGML v1.0//EN
BEGIN:VEVENT
UID=82FA935D-DCD5-22C8-BCF5640CDB35E8CE
DTSTAMP=20260424T112155Z
DTSTART;VALUE=DATE:20270207
DTEND;VALUE=DATE:20270208
SUMMARY:WrestlingTournaments.com Presents: The Winter WAR Zone @ All Sportz
LOCATION:All Sportz, 100 Ruland Rd, Melville, NY, 11747
DESCRIPTION:View full event details: https://wrestlingtournaments.org/view.cfm?ID=107124

URL;VALUE=URI:https://wrestlingtournaments.org/view.cfm?ID=107124
END:VEVENT
END:VCALENDAR