BEGIN:VCALENDAR
VERSION:2.0
PRODID:-//ExhibitionMatches.com//NONSGML v1.0//EN
BEGIN:VEVENT
UID=834024FF-B7D8-9E15-B962A8DBEA981741
DTSTAMP=20260424T112931Z
DTSTART;VALUE=DATE:20270307
DTEND;VALUE=DATE:20270308
SUMMARY:WrestlingTournaments.com Presents: March WAR Zone @ All Sportz
LOCATION:All Sportz, 100 Ruland Rd, Melville, NY, 11747
DESCRIPTION:View full event details: https://wrestlingtournaments.org/view.cfm?ID=107125

URL;VALUE=URI:https://wrestlingtournaments.org/view.cfm?ID=107125
END:VEVENT
END:VCALENDAR