BEGIN:VCALENDAR
VERSION:2.0
PRODID:-//ExhibitionMatches.com//NONSGML v1.0//EN
BEGIN:VEVENT
UID=82B6E15E-946D-EF64-5B71580B4D445F9B
DTSTAMP=20260424T111432Z
DTSTART;VALUE=DATE:20270404
DTEND;VALUE=DATE:20270405
SUMMARY:WrestlingTournaments.com Presents: The Spring WAR Zone @ All Sportz
LOCATION:All Sportz, 100 Ruland Rd, Melville, NY, 11747
DESCRIPTION:View full event details: https://wrestlingtournaments.org/view.cfm?ID=107127

URL;VALUE=URI:https://wrestlingtournaments.org/view.cfm?ID=107127
END:VEVENT
END:VCALENDAR