BEGIN:VCALENDAR
VERSION:2.0
PRODID:-//ExhibitionMatches.com//NONSGML v1.0//EN
BEGIN:VEVENT
UID=8326137F-96CA-3086-C962FCFD5EAA0B65
DTSTAMP=20260424T112641Z
DTSTART;VALUE=DATE:20270516
DTEND;VALUE=DATE:20270517
SUMMARY:WrestlingTournaments.com Presents: May WAR Zone @ All Sportz
LOCATION:All Sportz, 100 Ruland Rd, Melville, NY, 11747
DESCRIPTION:View full event details: https://wrestlingtournaments.org/view.cfm?ID=107130

URL;VALUE=URI:https://wrestlingtournaments.org/view.cfm?ID=107130
END:VEVENT
END:VCALENDAR