BEGIN:VCALENDAR
VERSION:2.0
PRODID:-//ExhibitionMatches.com//NONSGML v1.0//EN
BEGIN:VEVENT
UID=C197D37A-F779-A93F-AB72AF22F7A45913
DTSTAMP=20260425T163245Z
DTSTART;VALUE=DATE:20260501
DTEND;VALUE=DATE:20260504
SUMMARY:2026 Jeff Blatnick Freestyle &amp; Greco-Roman State Championships
LOCATION:LECOM Event Center, 155 N Main St, Elmira, NY, 14901
DESCRIPTION:View full event details: https://wrestlingtournaments.org/view.cfm?ID=107158
Contact: Kris Harrington kharrington141@gmail.com
URL;VALUE=URI:https://wrestlingtournaments.org/view.cfm?ID=107158
END:VEVENT
END:VCALENDAR